BEGIN:VCALENDAR
VERSION:2.0
PRODID:-//162.241.225.210//NONSGML kigkonsult.se iCalcreator 2.26.9//
CALSCALE:GREGORIAN
METHOD:PUBLISH
X-FROM-URL:https://bloomingdalecivicassociation.org
X-WR-TIMEZONE:Atlantic/Azores
BEGIN:VTIMEZONE
TZID:Atlantic/Azores
X-LIC-LOCATION:Atlantic/Azores
BEGIN:STANDARD
DTSTART:20251026T010000
TZOFFSETFROM:+0000
TZOFFSETTO:-0100
RDATE:20261025T010000
TZNAME:-01
END:STANDARD
BEGIN:DAYLIGHT
DTSTART:20260329T000000
TZOFFSETFROM:-0100
TZOFFSETTO:+0000
RDATE:20270328T000000
TZNAME:+00
END:DAYLIGHT
END:VTIMEZONE
BEGIN:VEVENT
UID:ai1ec-731@bloomingdale.masaiinteractive.net
DTSTAMP:20260423T134644Z
CATEGORIES;LANGUAGE=en-US:Meetings
CONTACT:
DESCRIPTION:<div class='et-l et-l--post'>\n			<div class='et_builder_inner_con
 tent et_pb_gutters3'>\n		<p>Join us for the regular monthly meeting of the B
 loomingdale Civic Association.</p>\n\n		</div>\n	</div>
DTSTART;TZID=Atlantic/Azores:20230515T190000
EXDATE;TZID=Atlantic/Azores:20230227T190000
EXDATE;TZID=Atlantic/Azores:20230626T190000
GEO:+38.916757;-77.01413
LOCATION:St. George's Episcopal Church @ 160 U St NW\, Washington\, DC 2000
 1\, USA
RRULE:FREQ=MONTHLY;BYDAY=3MO
SEQUENCE:0
SUMMARY:BCA Membership Meeting
URL:https://bloomingdalecivicassociation.org/event/bca-membership-meeting/
X-COST-TYPE:free
X-INSTANT-EVENT:1
END:VEVENT
END:VCALENDAR
